BEGIN:VCALENDAR
VERSION:2.0
PRODID:-//wp-events-plugin.com//7.2.3.1//EN
TZID:Europe/Paris
X-WR-TIMEZONE:Europe/Paris
BEGIN:VEVENT
UID:3-325@environnement.yvetot-normandie.fr
DTSTART;TZID=Europe/Paris:20250513T170000
DTEND;TZID=Europe/Paris:20250513T183000
DTSTAMP:20250512T142528Z
URL:https://environnement.yvetot-normandie.fr/evenement/animation-les-oise
 aux-enchantent-votre-jardin/
SUMMARY:Animation - les oiseaux enchantent votre jardin
DESCRIPTION:Une animation pour tous à la découverte des oiseaux
ATTACH;FMTTYPE=image/jpeg:https://www.yvetot-normandie.fr/wp-content/uploa
 ds/sites/3/2025/05/Bergeronnette-grise-Lea-Godet-480x250-1.jpg
CATEGORIES:Environnement,Service aux habitants
LOCATION:mairie de Bois Himont\, 94 rue de la Pierre Noire\, Bois Himont\, 
 76190\, France
X-APPLE-STRUCTURED-LOCATION;VALUE=URI;X-ADDRESS=94 rue de la Pierre Noire\,
  Bois Himont\, 76190\, France;X-APPLE-RADIUS=100;X-TITLE=mairie de Bois Hi
 mont:geo:0,0
END:VEVENT
BEGIN:VTIMEZONE
TZID:Europe/Paris
X-LIC-LOCATION:Europe/Paris
BEGIN:DAYLIGHT
DTSTART:20250330T030000
TZOFFSETFROM:+0100
TZOFFSETTO:+0200
TZNAME:CEST
END:DAYLIGHT
END:VTIMEZONE
END:VCALENDAR