BEGIN:VCALENDAR
VERSION:2.0
PRODID:-//wp-events-plugin.com//7.2.3.1//EN
TZID:Europe/Paris
X-WR-TIMEZONE:Europe/Paris
BEGIN:VEVENT
UID:3-362@environnement.yvetot-normandie.fr
DTSTART;TZID=Europe/Paris:20250917T140000
DTEND;TZID=Europe/Paris:20250917T170000
DTSTAMP:20250826T135725Z
URL:https://environnement.yvetot-normandie.fr/evenement/bien-manger-en-sam
 usant-animations/
SUMMARY:Bien manger en s'amusant - Animations
DESCRIPTION:Bien manger en s'amusant :  1 demi-journée d'animations sur l
 e thème de l'alimentation ! \nAu programme\, de nombreuses animations po
 ur petits et grands:\n\n 	\nmini-ferme avec animaux\n 	\nparcours tracteur
 s\n 	\natelier fromage\n 	\njeux sur l'alimentation\n 	\nsensibilisation p
 our les enfants\, femmes enceintes\, etc...\n 	\ndécouverte de nombreux p
 artenaires\n 	\nun espace lecture et détente\n 	et encore de nombreux par
 tenaires à découvrir sur place !\n\nVenez nombreux et suivez-nous sur le
 s réseaux sociaux : (20+) Bien manger en s'amusant | Facebook\nEt partag
 ez autour de vous !\n\nUn évènement organisé par Yvetot Normandie\, le 
 CCAS d'Yvetot et l'épicerie solidaire d'Yvetot! 
ATTACH;FMTTYPE=image/jpeg:https://www.yvetot-normandie.fr/wp-content/uploa
 ds/sites/3/2025/08/Bien-manger-en-samusant_affiche_17sept.png
LOCATION:Salle du Vieux Moulin\, 49 rue de l'Etang\, YVETOT\, Normandie\, 7
 6190\, Normandie\, France
X-APPLE-STRUCTURED-LOCATION;VALUE=URI;X-ADDRESS=49 rue de l'Etang\, YVETOT\
 , Normandie\, 76190\, Normandie\, France;X-APPLE-RADIUS=100;X-TITLE=Salle 
 du Vieux Moulin:geo:0,0
END:VEVENT
BEGIN:VTIMEZONE
TZID:Europe/Paris
X-LIC-LOCATION:Europe/Paris
BEGIN:DAYLIGHT
DTSTART:20250330T030000
TZOFFSETFROM:+0100
TZOFFSETTO:+0200
TZNAME:CEST
END:DAYLIGHT
END:VTIMEZONE
END:VCALENDAR