BEGIN:VCALENDAR
VERSION:2.0
PRODID:-//wp-events-plugin.com//7.2.3.1//EN
TZID:Europe/Paris
X-WR-TIMEZONE:Europe/Paris
BEGIN:VEVENT
UID:3-361@environnement.yvetot-normandie.fr
DTSTART;TZID=Europe/Paris:20250917T090000
DTEND;TZID=Europe/Paris:20250917T130000
DTSTAMP:20250826T135113Z
URL:https://environnement.yvetot-normandie.fr/evenement/forum-local-de-la-
 solidarite-alimentaire/
SUMMARY:Forum local de la solidarité alimentaire
DESCRIPTION:Le Centre Communal d’Action Sociale\, l’Epicerie Solidaire 
 d’Yvetot (Association ISA) et Yvetot Normandie organisent le premier for
 um local de la solidarité alimentaire.\n\nAu programme: \n\n 	Conférenc
 e " le juste prix de notre alimentation" par le CIVAM Allouville\n 	Table 
 ronde "les défis de l'aide alimentaire" Florian Boulenger (CD76 DDETS)\, 
 Guillaume Dumoulin (ANDES au MIN de Rouen)\, Arthur Baur (Graines en main)
 \, Céline Prieur (Epicerie solidaire Yvetot)\, Didier Malherbe (Restos du
  Coeur)\n 	Ateliers tournants de découverte des partenaires et des projet
 s (la table solidaire\, la maison des actions sociales culturelles de Tôt
 es\, Solaal\, Epicerie solidaire d'Yvetot\, Restos du Coeur\, secours cath
 olique\, graines en main)\n 	Buffet\n\nA destination des professionnels de
  l'alimentation\, du social\, élus et associations. \n\nEvènement gratu
 it - inscription recommandée sur: https://forms.office.com/e/MHZ7ix6KX4\n
 \n&nbsp\;\n\n
ATTACH;FMTTYPE=image/jpeg:https://www.yvetot-normandie.fr/wp-content/uploa
 ds/sites/3/2025/07/Capture-decran-2025-07-02-092018-1.png
CATEGORIES:Environnement,Service aux habitants
LOCATION:Salle du Vieux Moulin\, 49 rue de l'Etang\, YVETOT\, Normandie\, 7
 6190\, Normandie\, France
X-APPLE-STRUCTURED-LOCATION;VALUE=URI;X-ADDRESS=49 rue de l'Etang\, YVETOT\
 , Normandie\, 76190\, Normandie\, France;X-APPLE-RADIUS=100;X-TITLE=Salle 
 du Vieux Moulin:geo:0,0
END:VEVENT
BEGIN:VTIMEZONE
TZID:Europe/Paris
X-LIC-LOCATION:Europe/Paris
BEGIN:DAYLIGHT
DTSTART:20250330T030000
TZOFFSETFROM:+0100
TZOFFSETTO:+0200
TZNAME:CEST
END:DAYLIGHT
END:VTIMEZONE
END:VCALENDAR