BEGIN:VCALENDAR
VERSION:2.0
PRODID:-//wp-events-plugin.com//7.2.3.1//EN
TZID:Europe/Paris
X-WR-TIMEZONE:Europe/Paris
BEGIN:VEVENT
UID:3-326@environnement.yvetot-normandie.fr
DTSTART;TZID=Europe/Paris:20250604T090000
DTEND;TZID=Europe/Paris:20250604T170000
DTSTAMP:20250512T143230Z
URL:https://environnement.yvetot-normandie.fr/evenement/rallye-restauratio
 n-collective/
SUMMARY:Rallye - restauration collective
DESCRIPTION:\n\n\n\n\nUne journée dédiée pour la restauration collective
  du territoire.\nCelle-ci est organisée en partenariat avec Bio en Norman
 die et a lieu le 4 juin 2025 de 9h à 17H (départ et arrivée d'Yvetot)
 \n\nL'objectif de la journée est de découvrir deux sites de restauration
  collective ambitieuses dans l'Eure\, d'échanger avec les élus et les é
 quipes sur place.\nC'est l'occasion aussi de se retrouver et confronter no
 s différentes réalités pour apporter des réponses à nos problématiqu
 es et faire avancer nos restaurations collectives !\n* un restaurant scola
 ire sur place 100% bio 200 repas\n* une cuisine centrale innovante 47% agr
 iculture durable dont 22% bio - 3200 repas\n\nInscriptions possible pour l
 es élus\, gestionnaires\, secrétaires\, cuisiniers\, directeurs de resta
 uration collective publique ou privée.\nvia le lien suivant :Invitation 
 · Rallye Bio Restau Co - Mercredi 4 juin 2025\nou en envoyant un mail à 
 blanche.despaigne@yvetot-normandie.fr\n\nL'ensemble des frais est pris en 
 charge par Yvetot Normandie et Bio en Normandie.\n\nRallye restauco YN 202
 5 - vf\n\n\n\n\n
ATTACH;FMTTYPE=image/jpeg:https://www.yvetot-normandie.fr/wp-content/uploa
 ds/sites/3/2025/05/Capture-decran_17-4-2025_11185_.jpeg
END:VEVENT
BEGIN:VTIMEZONE
TZID:Europe/Paris
X-LIC-LOCATION:Europe/Paris
BEGIN:DAYLIGHT
DTSTART:20250330T030000
TZOFFSETFROM:+0100
TZOFFSETTO:+0200
TZNAME:CEST
END:DAYLIGHT
END:VTIMEZONE
END:VCALENDAR