BEGIN:VCALENDAR
VERSION:2.0
PRODID:-//wp-events-plugin.com//7.2.3.1//EN
TZID:Europe/Paris
X-WR-TIMEZONE:Europe/Paris
BEGIN:VEVENT
UID:3-319@environnement.yvetot-normandie.fr
DTSTART;TZID=Europe/Paris:20250409T140000
DTEND;TZID=Europe/Paris:20250409T160000
DTSTAMP:20250324T150046Z
URL:https://environnement.yvetot-normandie.fr/evenement/un-hotel-pour-les-
 insectes/
SUMMARY:Un hôtel pour les insectes
DESCRIPTION:Mais où vivent les insectes ? On les voit voler ou ramper aut
 our de nous mais ils ne semblent pas avoir de logis. La grande majorité d
 es insectes est solitaire et se contente de peu pour vivre (une cavité\, 
 un tas de feuilles mortes…). Certains vont même aménager leur nid en u
 tilisant de la boue. Les hôtels à insectes sont un excellent moyen pour 
 les observer\, et dans une moindre mesure\, leur offrir un gîte de substi
 tution face à la disparition de leurs milieux de vie.\n\nCet atelier cons
 truction d’un hôtel à insectes est organisé dans le cadre de l’Atla
 s de la Biodiversité Communale et vous permettra d‘en apprendre plus su
 r les milieux de vie des insectes et sur les façons de les favoriser.\nL
 ’hôtel construit sera ensuite placé par la commune de Saint Clair sur 
 les Monts sur un de ses terrains\, vous pourrez alors revenir observer les
  insectes qui y trouveront refuge.\n\nOffert - sur inscriptions\n
ATTACH;FMTTYPE=image/jpeg:https://www.yvetot-normandie.fr/wp-content/uploa
 ds/sites/3/2025/03/IMG_6411-480x250-1.jpg
CATEGORIES:Environnement,Service aux habitants
LOCATION:devant la mairie de St Clair sur les Monts\, devant la mairie\, Sa
 int Clair sur les Monts\, France
X-APPLE-STRUCTURED-LOCATION;VALUE=URI;X-ADDRESS=devant la mairie\, Saint Cl
 air sur les Monts\, France;X-APPLE-RADIUS=100;X-TITLE=devant la mairie de 
 St Clair sur les Monts:geo:0,0
END:VEVENT
BEGIN:VTIMEZONE
TZID:Europe/Paris
X-LIC-LOCATION:Europe/Paris
BEGIN:DAYLIGHT
DTSTART:20250330T030000
TZOFFSETFROM:+0100
TZOFFSETTO:+0200
TZNAME:CEST
END:DAYLIGHT
END:VTIMEZONE
END:VCALENDAR